BEGIN:VCALENDAR
PRODID:-//eluceo/ical//2.0/EN
VERSION:2.0
CALSCALE:GREGORIAN
BEGIN:VEVENT
UID:event-30
DTSTAMP:20260420T201743Z
SUMMARY:Walk & Talk 
DESCRIPTION:Wandeling met diverse thema stops op de route. Walking dinner (
 jaarlijks leden uitje).
DTSTART:20260521T140000Z
DTEND:20260521T210000Z
END:VEVENT
BEGIN:VTIMEZONE
TZID:UTC
BEGIN:STANDARD
DTSTART:20260521T140000
TZNAME:UTC
TZOFFSETTO:+0000
TZOFFSETFROM:+0000
END:STANDARD
END:VTIMEZONE
END:VCALENDAR
